BEGIN:VCALENDAR
VERSION:2.0
PRODID:-//Tukios.com/
BEGIN:VEVENT
UID:52a1237b-43b9-4f65-aa10-1eccb38ae4d6@www.taylorbros.net
DTSTAMP:20260423T222229Z
DTSTART:20260427T230000Z
DTEND:20260428T000000Z
SUMMARY:Rosary
DESCRIPTION:
URL:https://www.taylorbros.net/obituaries/vivian-tut-abshire
LOCATION: 13594 State Hwy. 60 South  Wadsworth TX 77483
GEO:28.8323596;-95.935584
END:VEVENT
END:VCALENDAR