BEGIN:VCALENDAR
VERSION:2.0
PRODID:-//Tukios.com/
BEGIN:VEVENT
UID:6f06a18a-92bf-4f91-90c1-1a2c7be73114@www.taylorbros.net
DTSTAMP:20260423T222009Z
DTSTART:20260427T220000Z
DTEND:20260427T230000Z
SUMMARY:Viewing
DESCRIPTION:
URL:https://www.taylorbros.net/obituaries/vivian-tut-abshire
LOCATION:Sacred Heart Catholic Church 13594 State Hwy. 60 South  
	Wadsworth TX 77483
GEO:28.8323596;-95.935584
END:VEVENT
END:VCALENDAR