BEGIN:VCALENDAR
VERSION:2.0
PRODID:-//Tukios.com/
BEGIN:VEVENT
UID:9ae3f86f-f2f3-48f3-a7da-410b5425ee24@www.taylorbros.net
DTSTAMP:20260423T221957Z
DTSTART:20260428T150000Z
DTEND:20260428T160000Z
SUMMARY:Mass
DESCRIPTION:
URL:https://www.taylorbros.net/obituaries/vivian-tut-abshire
LOCATION: 2001 Katy Avenue  Bay City TX 77414
GEO:28.9846408;-95.9499935
END:VEVENT
END:VCALENDAR