BEGIN:VCALENDAR
VERSION:2.0
PRODID:-//Tukios.com/
BEGIN:VEVENT
UID:316b7119-a202-405d-8b87-2905320b6006@www.taylorbros.net
DTSTAMP:20260423T221543Z
DTSTART:20260428T140000Z
DTEND:20260428T150000Z
SUMMARY:Viewing
DESCRIPTION:
URL:https://www.taylorbros.net/obituaries/vivian-tut-abshire
LOCATION: 2001 Katy Avenue  Bay City TX 77414
GEO:28.9846408;-95.9499935
END:VEVENT
END:VCALENDAR