BEGIN:VCALENDAR
VERSION:2.0
PRODID:-//Tukios.com/
BEGIN:VEVENT
UID:beb33f15-35ff-47fc-9b74-d017462bdd03@www.taylorbros.net
DTSTAMP:20260421T190137Z
DTSTART:20260424T190000Z
DTEND:20260424T200000Z
SUMMARY:Mass
DESCRIPTION:
URL:https://www.taylorbros.net/obituaries/trinidad-huerta
LOCATION: 1412 12th Street  Bay City TX 77414
GEO:28.9879878;-95.9730859
END:VEVENT
END:VCALENDAR