BEGIN:VCALENDAR
VERSION:2.0
PRODID:-//Tukios.com/
BEGIN:VEVENT
UID:4874c11d-4acc-443d-962a-8a16c2484a16@www.taylorbros.net
DTSTAMP:20260421T190611Z
DTSTART:20260423T233000Z
DTEND:20260424T003000Z
SUMMARY:Rosary
DESCRIPTION:
URL:https://www.taylorbros.net/obituaries/trinidad-huerta
LOCATION: 2313 Avenue I  Bay City TX 77404
GEO:28.9803068;-95.9659781
END:VEVENT
END:VCALENDAR