BEGIN:VCALENDAR
VERSION:2.0
PRODID:-//Tukios.com/
BEGIN:VEVENT
UID:c6f19f75-c9a8-4b18-8194-4ddc693ba2f3@www.taylorbros.net
DTSTAMP:20260421T185804Z
DTSTART:20260423T220000Z
DTEND:20260424T000000Z
SUMMARY:Visitation
DESCRIPTION:
URL:https://www.taylorbros.net/obituaries/trinidad-huerta
LOCATION: 2313 Avenue I  Bay City TX 77404
GEO:28.9803068;-95.9659781
END:VEVENT
END:VCALENDAR