BEGIN:VCALENDAR
VERSION:2.0
PRODID:-//Tukios.com/
BEGIN:VEVENT
UID:d9d18098-dc2b-4247-9c42-47784250fbda@www.taylorbros.net
DTSTAMP:20260423T222459Z
DTSTART:20260501T190000Z
DTEND:20260501T200000Z
SUMMARY:Mass
DESCRIPTION:
URL:https://www.taylorbros.net/obituaries/james-jim-ely
LOCATION:St. Marks Episcopal Church 2200 Avenue East  Bay City TX 77414
GEO:28.9814825;-95.9715608
END:VEVENT
END:VCALENDAR