BEGIN:VCALENDAR
VERSION:2.0
PRODID:-//Tukios.com/
BEGIN:VEVENT
UID:7ea40057-817e-42fc-ba00-65bc974638c7@www.taylorbros.net
DTSTAMP:20260425T162509Z
DTSTART:20260502T200000Z
DTEND:20260502T210000Z
SUMMARY:Funeral Service
DESCRIPTION:
URL:https://www.taylorbros.net/obituaries/helen-harmon
LOCATION:Taylor Bros. Funeral Home 2313 Avenue I  Bay City TX 77404
GEO:28.9803068;-95.9659781
END:VEVENT
END:VCALENDAR