BEGIN:VCALENDAR
VERSION:2.0
PRODID:-//Tukios.com/
BEGIN:VEVENT
UID:6aba71c7-2a85-48e8-9500-0856a10da94e@www.taylorbros.net
DTSTAMP:20260425T161818Z
DTSTART:20260502T190000Z
DTEND:20260502T200000Z
SUMMARY:Visitation
DESCRIPTION:
URL:https://www.taylorbros.net/obituaries/helen-harmon
LOCATION:Taylor Bros. Funeral Home 2313 Avenue I  Bay City TX 77404
GEO:28.9803068;-95.9659781
END:VEVENT
END:VCALENDAR