BEGIN:VCALENDAR
VERSION:2.0
PRODID:-//Tukios.com/
BEGIN:VEVENT
UID:3e337f35-4060-4d5d-8321-302033df3eda@www.taylorbros.net
DTSTAMP:20260422T205709Z
DTSTART:20260426T200000Z
DTEND:20260426T210000Z
SUMMARY:Memorial Service
DESCRIPTION:
URL:https://www.taylorbros.net/obituaries/elza-glenn-walker
LOCATION:The Living Room Church 326 E. Brazos Ave  West Columbia TX 77486
GEO:29.1439189;-95.6444345
END:VEVENT
END:VCALENDAR