BEGIN:VCALENDAR
VERSION:2.0
PRODID:-//Tukios.com/
BEGIN:VEVENT
UID:63722926-fd11-4518-a0f8-c12240031d2d@www.taylorbros.net
DTSTAMP:20260421T190040Z
DTSTART:20260425T190000Z
DTEND:20260425T200000Z
SUMMARY:Funeral Service
DESCRIPTION:
URL:https://www.taylorbros.net/obituaries/albert-bissett
LOCATION: 2313 Avenue I  Bay City TX 77404
GEO:28.9803068;-95.9659781
END:VEVENT
END:VCALENDAR