BEGIN:VCALENDAR
VERSION:2.0
PRODID:-//Tukios.com/
BEGIN:VEVENT
UID:3618a2fa-07a2-45ac-b642-ef0a7984e5e4@www.taylorbros.net
DTSTAMP:20260421T185718Z
DTSTART:20260425T180000Z
DTEND:20260425T190000Z
SUMMARY:Visitation
DESCRIPTION:
URL:https://www.taylorbros.net/obituaries/albert-bissett
LOCATION: 2313 Avenue I  Bay City TX 77404
GEO:28.9803068;-95.9659781
END:VEVENT
END:VCALENDAR